BEGIN:VCALENDAR
VERSION:2.0
PRODID:-//Arizona Goat Yoga - ECPv6.15.20//NONSGML v1.0//EN
CALSCALE:GREGORIAN
METHOD:PUBLISH
X-WR-CALNAME:Arizona Goat Yoga
X-ORIGINAL-URL:https://goatyoga.com
X-WR-CALDESC:Events for Arizona Goat Yoga
REFRESH-INTERVAL;VALUE=DURATION:PT1H
X-Robots-Tag:noindex
X-PUBLISHED-TTL:PT1H
BEGIN:VTIMEZONE
TZID:America/Phoenix
BEGIN:STANDARD
TZOFFSETFROM:-0700
TZOFFSETTO:-0700
TZNAME:MST
DTSTART:20240101T000000
END:STANDARD
END:VTIMEZONE
BEGIN:VEVENT
DTSTART;TZID=America/Phoenix:20251206T100000
DTEND;TZID=America/Phoenix:20251206T110000
DTSTAMP:20260420T160815
CREATED:20250811T202649Z
LAST-MODIFIED:20251013T034505Z
UID:10000792-1765015200-1765018800@goatyoga.com
SUMMARY:Ugly Christmas Sweater Goat and Alpaca Yoga- 10am. 12/6
DESCRIPTION:Ugly Christmas Sweater Goat & Alpaca Yoga 🎄🐐 \nDo yoga with goats and alpacas—Napoleon\, Rico\, and Kip—all dressed in their ugliest holiday sweaters! Plus\, our comedian yoga instructor will keep you laughing the whole class. \nIn a grassy field\, you’ll stretch\, laugh\, and snap the best holiday pics ever. \n🎄 Details: \n\n\nBring a mat or towel (rentals $5) \n\n\nNo make-ups or refunds \n\n\nFestive outfits encouraged!
URL:https://goatyoga.com/event/ugly-christmas-sweater-goat-and-alpaca-yoga-10am-12-6-2/
LOCATION:Welcome Home Ranch – Goat Yoga\, 26601 S Val Vista Dr #Goat Yoga\, Gilbert\, AZ\, 85298\, United States
ATTACH;FMTTYPE=image/jpeg:https://goatyoga.com/wp-content/uploads/IMG_1240-scaled.jpg
ORGANIZER;CN="Arizona Goat Yoga":MAILTO:owner@goatyoga.com
GEO:33.206567;-111.7545645
X-APPLE-STRUCTURED-LOCATION;VALUE=URI;X-ADDRESS=Welcome Home Ranch – Goat Yoga 26601 S Val Vista Dr #Goat Yoga Gilbert AZ 85298 United States;X-APPLE-RADIUS=500;X-TITLE=26601 S Val Vista Dr #Goat Yoga:geo:-111.7545645,33.206567
END:VEVENT
BEGIN:VEVENT
DTSTART;TZID=America/Phoenix:20251212T173000
DTEND;TZID=America/Phoenix:20251212T183000
DTSTAMP:20260420T160815
CREATED:20250811T203542Z
LAST-MODIFIED:20251015T183439Z
UID:10000795-1765560600-1765564200@goatyoga.com
SUMMARY:Ugly Christmas Sweater Goat & Alpaca Yoga 🎄🐐 5:30pm 12/12
DESCRIPTION:Ugly Christmas Sweater Goat & Alpaca Yoga 🎄🐐 \nDo yoga with goats and alpacas—Napoleon\, Rico\, and Kip—all dressed in their ugliest holiday sweaters! Plus\, our comedian yoga instructor will keep you laughing the whole class. \nIn a grassy field\, you’ll stretch\, laugh\, and snap the best holiday pics ever. \n🎄 Details: \n\n\nBring a mat or towel (rentals $5) \n\n\nNo make-ups or refunds \n\n\nFestive outfits encouraged!
URL:https://goatyoga.com/event/ugly-christmas-sweater-goat-alpaca-yoga-%f0%9f%8e%84%f0%9f%90%90-10am-12-10/
LOCATION:Welcome Home Ranch – Goat Yoga\, 26601 S Val Vista Dr #Goat Yoga\, Gilbert\, AZ\, 85298\, United States
ATTACH;FMTTYPE=image/jpeg:https://goatyoga.com/wp-content/uploads/goat-yoga-christmas.jpg
ORGANIZER;CN="Arizona Goat Yoga":MAILTO:owner@goatyoga.com
GEO:33.206567;-111.7545645
X-APPLE-STRUCTURED-LOCATION;VALUE=URI;X-ADDRESS=Welcome Home Ranch – Goat Yoga 26601 S Val Vista Dr #Goat Yoga Gilbert AZ 85298 United States;X-APPLE-RADIUS=500;X-TITLE=26601 S Val Vista Dr #Goat Yoga:geo:-111.7545645,33.206567
END:VEVENT
BEGIN:VEVENT
DTSTART;TZID=America/Phoenix:20251213T100000
DTEND;TZID=America/Phoenix:20251213T110000
DTSTAMP:20260420T160815
CREATED:20250811T203028Z
LAST-MODIFIED:20250811T203028Z
UID:10000793-1765620000-1765623600@goatyoga.com
SUMMARY:Ugly Christmas Sweater Goat & Alpaca Yoga 🎄🐐 10am 12/13
DESCRIPTION:Ugly Christmas Sweater Goat & Alpaca Yoga 🎄🐐 \nDo yoga with goats and alpacas—Napoleon\, Rico\, and Kip—all dressed in their ugliest holiday sweaters! Plus\, our comedian yoga instructor will keep you laughing the whole class. \nIn a grassy field\, you’ll stretch\, laugh\, and snap the best holiday pics ever. \n🎄 Details: \n\n\nBring a mat or towel (rentals $5) \n\n\nNo make-ups or refunds \n\n\nFestive outfits encouraged!
URL:https://goatyoga.com/event/ugly-christmas-sweater-goat-alpaca-yoga-%f0%9f%8e%84%f0%9f%90%90-10am-12-13/
LOCATION:Welcome Home Ranch – Goat Yoga\, 26601 S Val Vista Dr #Goat Yoga\, Gilbert\, AZ\, 85298\, United States
ATTACH;FMTTYPE=image/jpeg:https://goatyoga.com/wp-content/uploads/IMG_0824-scaled.jpg
ORGANIZER;CN="Arizona Goat Yoga":MAILTO:owner@goatyoga.com
GEO:33.206567;-111.7545645
X-APPLE-STRUCTURED-LOCATION;VALUE=URI;X-ADDRESS=Welcome Home Ranch – Goat Yoga 26601 S Val Vista Dr #Goat Yoga Gilbert AZ 85298 United States;X-APPLE-RADIUS=500;X-TITLE=26601 S Val Vista Dr #Goat Yoga:geo:-111.7545645,33.206567
END:VEVENT
BEGIN:VEVENT
DTSTART;TZID=America/Phoenix:20251215T092000
DTEND;TZID=America/Phoenix:20251215T102000
DTSTAMP:20260420T160815
CREATED:20251212T174813Z
LAST-MODIFIED:20251212T175432Z
UID:10000833-1765790400-1765794000@goatyoga.com
SUMMARY:$5 Special!! Take pictures with Santa\, the Grinch\, and Fox 10 News 12-15-2025 9:20am \,
DESCRIPTION:$5 Special!! \nBRING YOUR KIDS… TO TAKE PICTURES WITH SANTA!! \n30 min class and 30 min free time to hang out with Santa! News Channel 10 (and even the grinch) are coming to town!  Be a Part of the fun for a great price. \nDo yoga with goats and alpacas—Rico\, and Kip—all dressed in their ugliest holiday sweaters! Plus\, help a few new baby goats enjoy their firs holiday season. . \nIn a grassy field\, you’ll stretch\, laugh\, and snap the best holiday pics ever!! \n🎄 Details: \n\nBring a mat or towel (rentals $5)\nNo make-ups or refunds
URL:https://goatyoga.com/event/5-special-take-pictures-with-santa-the-grinch-and-fox-10-news-12-15-2025-920am/
LOCATION:AZ
ATTACH;FMTTYPE=image/jpeg:https://goatyoga.com/wp-content/uploads/Santa-1.jpg
END:VEVENT
BEGIN:VEVENT
DTSTART;TZID=America/Phoenix:20251219T173000
DTEND;TZID=America/Phoenix:20251219T183000
DTSTAMP:20260420T160815
CREATED:20251119T035814Z
LAST-MODIFIED:20251213T061250Z
UID:10000824-1766165400-1766169000@goatyoga.com
SUMMARY:Ugly Christmas Sweater Goat & Alpaca Yoga 🎄🐐 12/19/2025 5:30pm
DESCRIPTION:Ugly Christmas Sweater Goat & Alpaca Yoga 🎄🐐 \nDo yoga with goats and alpacas—Rico\, and Kip—all dressed in their ugliest holiday sweaters! Plus\, help a few new baby goats enjoy their firs holiday season. . \nIn a grassy field\, you’ll stretch\, laugh\, and snap the best holiday pics ever. \n🎄 Details: \n\n\nBring a mat or towel (rentals $5) \n\n\nNo make-ups or refunds \n\n\nFestive outfits encouraged!
URL:https://goatyoga.com/event/ugly-christmas-sweater-goat-alpaca-yoga-%f0%9f%8e%84%f0%9f%90%90-12-19-2025/
LOCATION:Welcome Home Ranch – Goat Yoga\, 26601 S Val Vista Dr #Goat Yoga\, Gilbert\, AZ\, 85298\, United States
CATEGORIES:Goat Yoga Event
ATTACH;FMTTYPE=image/jpeg:https://goatyoga.com/wp-content/uploads/goat-yoga-christmas.jpg
ORGANIZER;CN="Arizona Goat Yoga":MAILTO:owner@goatyoga.com
GEO:33.206567;-111.7545645
X-APPLE-STRUCTURED-LOCATION;VALUE=URI;X-ADDRESS=Welcome Home Ranch – Goat Yoga 26601 S Val Vista Dr #Goat Yoga Gilbert AZ 85298 United States;X-APPLE-RADIUS=500;X-TITLE=26601 S Val Vista Dr #Goat Yoga:geo:-111.7545645,33.206567
END:VEVENT
BEGIN:VEVENT
DTSTART;TZID=America/Phoenix:20251220T100000
DTEND;TZID=America/Phoenix:20251220T110000
DTSTAMP:20260420T160815
CREATED:20251120T174357Z
LAST-MODIFIED:20251120T174357Z
UID:10000825-1766224800-1766228400@goatyoga.com
SUMMARY:Santa & Goat & Alpaca Yoga 🎄🐐 12/20/2025 10:00am
DESCRIPTION:Get ready for the most festive yoga class of the year—Santa is coming! Christmas eve eve is here. Wear your most ridiculous holiday sweater and join us in a grassy field for a fun and lighthearted yoga experience. Plus\, Santa will be attending to hear your holiday wishes and snap some photos.  Our friendly goats and alpacas will also be decked out in their finest ugly sweaters\, adding extra holiday cheer to your poses. \nPerfect for families and friends\, this one-of-a-kind class lets you stretch\, laugh\, and snap plenty of holiday photos with our adorable animals. Bring a yoga mat or towel and your holiday spirit—this class promises to be a joyful\, and unforgettable event! \nNo refunds or make-up classes available. Mat Rentals are $5.
URL:https://goatyoga.com/event/santa-goat-alpaca-yoga-%f0%9f%8e%84%f0%9f%90%90-12-20-2025-1000am/
LOCATION:Welcome Home Ranch – Goat Yoga\, 26601 S Val Vista Dr #Goat Yoga\, Gilbert\, AZ\, 85298\, United States
CATEGORIES:Goat Yoga Event
ATTACH;FMTTYPE=image/jpeg:https://goatyoga.com/wp-content/uploads/goat-yoga-christmas-2.jpg
ORGANIZER;CN="Arizona Goat Yoga":MAILTO:owner@goatyoga.com
GEO:33.206567;-111.7545645
X-APPLE-STRUCTURED-LOCATION;VALUE=URI;X-ADDRESS=Welcome Home Ranch – Goat Yoga 26601 S Val Vista Dr #Goat Yoga Gilbert AZ 85298 United States;X-APPLE-RADIUS=500;X-TITLE=26601 S Val Vista Dr #Goat Yoga:geo:-111.7545645,33.206567
END:VEVENT
BEGIN:VEVENT
DTSTART;TZID=America/Phoenix:20251223T100000
DTEND;TZID=America/Phoenix:20251223T110000
DTSTAMP:20260420T160815
CREATED:20251204T060730Z
LAST-MODIFIED:20251219T212036Z
UID:10000831-1766484000-1766487600@goatyoga.com
SUMMARY:Ugly Christmas Sweater Goat & Alpaca Yoga 🎄🐐 10am 12/23
DESCRIPTION:Ugly Christmas Sweater Goat & Alpaca Yoga 🎄🐐 12/23/2025 10:00am\n  \nDo yoga with goats and alpacas—Rico\, and Kip—all dressed in their ugliest holiday sweaters! Plus\, help a few new baby goats enjoy their firs holiday season. . \nIn a grassy field\, you’ll stretch\, laugh\, and snap the best holiday pics ever. \n🎄 Details: \n\nBring a mat or towel (rentals $5)\nNo make-ups or refunds\nFestive outfits encouraged!
URL:https://goatyoga.com/event/family-ugly-christmas-sweater-goat-alpaca-yoga-%f0%9f%8e%84%f0%9f%90%90-10am-12-23/
LOCATION:Welcome Home Ranch – Goat Yoga\, 26601 S Val Vista Dr #Goat Yoga\, Gilbert\, AZ\, 85298\, United States
CATEGORIES:Goat Yoga Event
ATTACH;FMTTYPE=image/jpeg:https://goatyoga.com/wp-content/uploads/goat-holiday.jpg
GEO:33.206567;-111.7545645
X-APPLE-STRUCTURED-LOCATION;VALUE=URI;X-ADDRESS=Welcome Home Ranch – Goat Yoga 26601 S Val Vista Dr #Goat Yoga Gilbert AZ 85298 United States;X-APPLE-RADIUS=500;X-TITLE=26601 S Val Vista Dr #Goat Yoga:geo:-111.7545645,33.206567
END:VEVENT
BEGIN:VEVENT
DTSTART;TZID=America/Phoenix:20251227T100000
DTEND;TZID=America/Phoenix:20251227T110000
DTSTAMP:20260420T160815
CREATED:20251119T231922Z
LAST-MODIFIED:20251223T211616Z
UID:10000827-1766829600-1766833200@goatyoga.com
SUMMARY:Goat Yoga Holiday Shake Off - 12/27/025 10:00am
DESCRIPTION:Shake off the stress from the holidays and relax with our playful baby goats\, charming alpacas- Kip and Rico.  Simple yoga instruction that can be done by most! All of the animals will be dressed and ready for a photo!   Friends and family will love it. \nHeld in a lush grassy field\, this unique yoga experience promises good vibes\, big laughs\, and unforgettable animal encounters. \n🎶 What to Know: Groove through your yoga poses with our specially trained animals. No make-ups or refunds\, so don’t miss out. \nPlease bring a mat or towel; mat rentals available for $5. 
URL:https://goatyoga.com/event/goat-yoga-holiday-shake-off-12-27-025-1000am/
LOCATION:Welcome Home Ranch – Goat Yoga\, 26601 S Val Vista Dr #Goat Yoga\, Gilbert\, AZ\, 85298\, United States
CATEGORIES:Goat Yoga Event
ATTACH;FMTTYPE=image/jpeg:https://goatyoga.com/wp-content/uploads/IMG_0140-scaled.jpeg
ORGANIZER;CN="Arizona Goat Yoga":MAILTO:owner@goatyoga.com
GEO:33.206567;-111.7545645
X-APPLE-STRUCTURED-LOCATION;VALUE=URI;X-ADDRESS=Welcome Home Ranch – Goat Yoga 26601 S Val Vista Dr #Goat Yoga Gilbert AZ 85298 United States;X-APPLE-RADIUS=500;X-TITLE=26601 S Val Vista Dr #Goat Yoga:geo:-111.7545645,33.206567
END:VEVENT
END:VCALENDAR