BEGIN:VCALENDAR
VERSION:2.0
PRODID:-//Arizona Goat Yoga - ECPv6.15.20//NONSGML v1.0//EN
CALSCALE:GREGORIAN
METHOD:PUBLISH
X-ORIGINAL-URL:https://goatyoga.com
X-WR-CALDESC:Events for Arizona Goat Yoga
REFRESH-INTERVAL;VALUE=DURATION:PT1H
X-Robots-Tag:noindex
X-PUBLISHED-TTL:PT1H
BEGIN:VTIMEZONE
TZID:America/Phoenix
BEGIN:STANDARD
TZOFFSETFROM:-0700
TZOFFSETTO:-0700
TZNAME:MST
DTSTART:20250101T000000
END:STANDARD
END:VTIMEZONE
BEGIN:VEVENT
DTSTART;TZID=America/Phoenix:20260206T173000
DTEND;TZID=America/Phoenix:20260206T183000
DTSTAMP:20260420T125134
CREATED:20251227T005752Z
LAST-MODIFIED:20251227T005926Z
UID:10000839-1770399000-1770402600@goatyoga.com
SUMMARY:Valentine’s Goat & Alpaca Yoga 💘🦙 - 2/6/2026 5:30pm
DESCRIPTION:Fall in love with yoga all over again at our Valentine’s Goat & Alpaca Yoga—a heart-warming experience filled with movement\, laughter\, and adorable animal affection. \nCelebrate love in all its forms—self-love\, friendship\, or a fun date—during this gentle\, beginner-friendly yoga class surrounded by playful goats and calm alpacas. Expect plenty of smiles as our animals roam\, cuddle\, and occasionally climb while you flow through relaxing poses in a festive Valentine’s atmosphere. \nNo yoga experience is required. This class is about connection\, joy\, and having fun\, not perfect poses. \nNo refunds or make-up classes available. Mat Rentals are $5.
URL:https://goatyoga.com/event/valentines-goat-alpaca-yoga-%f0%9f%92%98%f0%9f%a6%99-2-6-2026-530pm/
LOCATION:Welcome Home Ranch – Goat Yoga\, 26601 S Val Vista Dr #Goat Yoga\, Gilbert\, AZ\, 85298\, United States
CATEGORIES:Goat Yoga Event
ATTACH;FMTTYPE=image/jpeg:https://goatyoga.com/wp-content/uploads/23550130_769943913216849_4961258643940334881_o.jpg
ORGANIZER;CN="Arizona Goat Yoga":MAILTO:owner@goatyoga.com
GEO:33.206567;-111.7545645
X-APPLE-STRUCTURED-LOCATION;VALUE=URI;X-ADDRESS=Welcome Home Ranch – Goat Yoga 26601 S Val Vista Dr #Goat Yoga Gilbert AZ 85298 United States;X-APPLE-RADIUS=500;X-TITLE=26601 S Val Vista Dr #Goat Yoga:geo:-111.7545645,33.206567
END:VEVENT
BEGIN:VEVENT
DTSTART;TZID=America/Phoenix:20260207T100000
DTEND;TZID=America/Phoenix:20260207T110000
DTSTAMP:20260420T125134
CREATED:20251227T010331Z
LAST-MODIFIED:20251227T010331Z
UID:10000840-1770458400-1770462000@goatyoga.com
SUMMARY:Valentine’s Goat & Alpaca Yoga 💘🦙 - 2/7/2026 10:00am
DESCRIPTION:Fall in love with yoga all over again at our Valentine’s Goat & Alpaca Yoga—a heart-warming experience filled with movement\, laughter\, and adorable animal affection. \nCelebrate love in all its forms—self-love\, friendship\, or a fun date—during this gentle\, beginner-friendly yoga class surrounded by playful goats and calm alpacas. Expect plenty of smiles as our animals roam\, cuddle\, and occasionally climb while you flow through relaxing poses in a festive Valentine’s atmosphere. \nNo yoga experience is required. This class is about connection\, joy\, and having fun\, not perfect poses. \nNo refunds or make-up classes available. Mat Rentals are $5.
URL:https://goatyoga.com/event/valentines-goat-alpaca-yoga-%f0%9f%92%98%f0%9f%a6%99-2-7-2026-1000am/
LOCATION:Welcome Home Ranch – Goat Yoga\, 26601 S Val Vista Dr #Goat Yoga\, Gilbert\, AZ\, 85298\, United States
CATEGORIES:Goat Yoga Event
ATTACH;FMTTYPE=image/jpeg:https://goatyoga.com/wp-content/uploads/goat-gangster.jpg
ORGANIZER;CN="Arizona Goat Yoga":MAILTO:owner@goatyoga.com
GEO:33.206567;-111.7545645
X-APPLE-STRUCTURED-LOCATION;VALUE=URI;X-ADDRESS=Welcome Home Ranch – Goat Yoga 26601 S Val Vista Dr #Goat Yoga Gilbert AZ 85298 United States;X-APPLE-RADIUS=500;X-TITLE=26601 S Val Vista Dr #Goat Yoga:geo:-111.7545645,33.206567
END:VEVENT
BEGIN:VEVENT
DTSTART;TZID=America/Phoenix:20260220T173000
DTEND;TZID=America/Phoenix:20260220T183000
DTSTAMP:20260420T125134
CREATED:20260116T060326Z
LAST-MODIFIED:20260116T062413Z
UID:10000841-1771608600-1771612200@goatyoga.com
SUMMARY:Pajama Party Goat & Alpaca Yoga 🌙🦙 2-20-2026 5:30pm
DESCRIPTION:Get cozy and unwind at our evening Pajama Party Goat Yoga—where comfort\, laughter\, and adorable animals come together under the stars! \nSlip into your favorite pajamas and join us for a relaxing\, beginner-friendly yoga class surrounded by goats and alpacas dressed in their own pajamas. This slow\, gentle flow is designed to help you stretch\, de-stress\, and end your day on a high note—while our four-legged friends roam\, cuddle\, and occasionally climb during class. \nNo yoga experience is necessary. This class is all about fun\, relaxation\, and connection—not perfection. \nNo refunds or make-up classes available. Mat Rentals are $5.
URL:https://goatyoga.com/event/pajama-party-goat-alpaca-yoga-%f0%9f%8c%99%f0%9f%a6%99-2-20-2026-530pm/
LOCATION:Welcome Home Ranch – Goat Yoga\, 26601 S Val Vista Dr #Goat Yoga\, Gilbert\, AZ\, 85298\, United States
ATTACH;FMTTYPE=image/jpeg:https://goatyoga.com/wp-content/uploads/IMG_0140-scaled.jpeg
ORGANIZER;CN="Arizona Goat Yoga":MAILTO:owner@goatyoga.com
GEO:33.206567;-111.7545645
X-APPLE-STRUCTURED-LOCATION;VALUE=URI;X-ADDRESS=Welcome Home Ranch – Goat Yoga 26601 S Val Vista Dr #Goat Yoga Gilbert AZ 85298 United States;X-APPLE-RADIUS=500;X-TITLE=26601 S Val Vista Dr #Goat Yoga:geo:-111.7545645,33.206567
END:VEVENT
BEGIN:VEVENT
DTSTART;TZID=America/Phoenix:20260221T100000
DTEND;TZID=America/Phoenix:20260221T110000
DTSTAMP:20260420T125134
CREATED:20260116T062854Z
LAST-MODIFIED:20260218T185439Z
UID:10000842-1771668000-1771671600@goatyoga.com
SUMMARY:80’s Baby Goat & Alpaca Yoga 🐐 🌟 2/21/2026 10:00am
DESCRIPTION:Join us for a totally rad yoga class with our playful baby goats\, charming alpacas- Kip and Rico.  Simple yoga instruction that can be done by most! All of the animals will be dressed in 80’s attire!  \nHeld in a lush grassy field\, this unique yoga experience promises good vibes\, big laughs\, and unforgettable animal encounters. \n🎶 What to Know: Groove through your yoga poses with our specially trained animals.  \nNo make-ups or refunds\, so don’t miss out. \nPlease bring a mat or towel; mat rentals available for $5. 
URL:https://goatyoga.com/event/80s-baby-goat-alpaca-yoga-%f0%9f%90%90-%f0%9f%8c%9f-2-21-2026-1000am/
LOCATION:Welcome Home Ranch – Goat Yoga\, 26601 S Val Vista Dr #Goat Yoga\, Gilbert\, AZ\, 85298\, United States
CATEGORIES:Goat Yoga Event
ATTACH;FMTTYPE=image/jpeg:https://goatyoga.com/wp-content/uploads/goat1.jpg
ORGANIZER;CN="Arizona Goat Yoga":MAILTO:owner@goatyoga.com
GEO:33.206567;-111.7545645
X-APPLE-STRUCTURED-LOCATION;VALUE=URI;X-ADDRESS=Welcome Home Ranch – Goat Yoga 26601 S Val Vista Dr #Goat Yoga Gilbert AZ 85298 United States;X-APPLE-RADIUS=500;X-TITLE=26601 S Val Vista Dr #Goat Yoga:geo:-111.7545645,33.206567
END:VEVENT
BEGIN:VEVENT
DTSTART;TZID=America/Phoenix:20260227T173000
DTEND;TZID=America/Phoenix:20260227T183000
DTSTAMP:20260420T125134
CREATED:20260116T175138Z
LAST-MODIFIED:20260217T055333Z
UID:10000843-1772213400-1772217000@goatyoga.com
SUMMARY:Fairytale Baby Goat and Alpaca Yoga 2/27/2026  5:30pm
DESCRIPTION:Enter a storybook world with Fairytale Goat & Alpaca Yoga\, where our specially trained goats and alpacas come dressed in whimsical fairytale costumes! \nDuring this playful yoga class\, suitable for all levels\, our magical animals will interact with you\, bringing extra joy and charm to your practice. \nSet in a beautiful outdoor space\, this class lets you stretch\, laugh\, and enjoy the enchanting company of goats and alpacas! \nNo refunds or make-up classes available. Rentals are $5.
URL:https://goatyoga.com/event/fairytale-baby-goat-and-alpaca-yoga-630pm-2-27-2026-530pm/
LOCATION:Welcome Home Ranch – Goat Yoga\, 26601 S Val Vista Dr #Goat Yoga\, Gilbert\, AZ\, 85298\, United States
CATEGORIES:Goat Yoga Event
ATTACH;FMTTYPE=image/jpeg:https://goatyoga.com/wp-content/uploads/baby-goat-yoga-schmoo-on-back-of-80s-guy-good-pic.jpg
ORGANIZER;CN="Arizona Goat Yoga":MAILTO:owner@goatyoga.com
GEO:33.206567;-111.7545645
X-APPLE-STRUCTURED-LOCATION;VALUE=URI;X-ADDRESS=Welcome Home Ranch – Goat Yoga 26601 S Val Vista Dr #Goat Yoga Gilbert AZ 85298 United States;X-APPLE-RADIUS=500;X-TITLE=26601 S Val Vista Dr #Goat Yoga:geo:-111.7545645,33.206567
END:VEVENT
BEGIN:VEVENT
DTSTART;TZID=America/Phoenix:20260228T100000
DTEND;TZID=America/Phoenix:20260228T110000
DTSTAMP:20260420T125134
CREATED:20260116T180702Z
LAST-MODIFIED:20260217T055502Z
UID:10000844-1772272800-1772276400@goatyoga.com
SUMMARY:Fairytale Baby Goat and Alpaca Yoga 2/28/2026  10:00am
DESCRIPTION:Enter a storybook world with Fairytale Goat & Alpaca Yoga\, where our specially trained goats and alpacas come dressed in whimsical fairytale costumes! \nDuring this playful yoga class\, suitable for all levels\, our magical animals will interact with you\, bringing extra joy and charm to your practice. \nSet in a beautiful outdoor space\, this class lets you stretch\, laugh\, and enjoy the enchanting company of goats and alpacas! \nNo refunds or make-up classes available. Rentals are $5.
URL:https://goatyoga.com/event/fairytale-baby-goat-and-alpaca-yoga-630pm-2-28-2026-1000am/
LOCATION:Welcome Home Ranch – Goat Yoga\, 26601 S Val Vista Dr #Goat Yoga\, Gilbert\, AZ\, 85298\, United States
CATEGORIES:Goat Yoga Event
ATTACH;FMTTYPE=image/jpeg:https://goatyoga.com/wp-content/uploads/goat-gangster.jpg
ORGANIZER;CN="Arizona Goat Yoga":MAILTO:owner@goatyoga.com
GEO:33.206567;-111.7545645
X-APPLE-STRUCTURED-LOCATION;VALUE=URI;X-ADDRESS=Welcome Home Ranch – Goat Yoga 26601 S Val Vista Dr #Goat Yoga Gilbert AZ 85298 United States;X-APPLE-RADIUS=500;X-TITLE=26601 S Val Vista Dr #Goat Yoga:geo:-111.7545645,33.206567
END:VEVENT
END:VCALENDAR