BEGIN:VCALENDAR
VERSION:2.0
PRODID:-//Arizona Goat Yoga - ECPv6.15.20//NONSGML v1.0//EN
CALSCALE:GREGORIAN
METHOD:PUBLISH
X-WR-CALNAME:Arizona Goat Yoga
X-ORIGINAL-URL:https://goatyoga.com
X-WR-CALDESC:Events for Arizona Goat Yoga
REFRESH-INTERVAL;VALUE=DURATION:PT1H
X-Robots-Tag:noindex
X-PUBLISHED-TTL:PT1H
BEGIN:VTIMEZONE
TZID:America/Phoenix
BEGIN:STANDARD
TZOFFSETFROM:-0700
TZOFFSETTO:-0700
TZNAME:MST
DTSTART:20250101T000000
END:STANDARD
END:VTIMEZONE
BEGIN:VEVENT
DTSTART;TZID=America/Phoenix:20260424T183000
DTEND;TZID=America/Phoenix:20260424T193000
DTSTAMP:20260420T092449
CREATED:20260310T032452Z
LAST-MODIFIED:20260310T032535Z
UID:10000857-1777055400-1777059000@goatyoga.com
SUMMARY:Plaid Party BABY Goat Yoga: Flannel\, Flex & Farmyard Fun!  4/24/2026  6:30pm🐐🧘‍♀️
DESCRIPTION: 4/24/2026 6:30pm \nGet ready to stretch\, laugh\, and rock your favorite flannel at Plaid Party BABY Goat and Alpaca Yoga! 🐐🧘‍♀️ \nThrow on your coziest plaid and join us for a playful yoga class where friendly goats roam\, cuddle\, and occasionally hop into your poses. This light-hearted session blends gentle yoga\, fresh air\, and plenty of goat snuggles for the ultimate feel-good experience. Whether you’re a seasoned yogi or just here for the goats\, expect smiles\, laughter\, and lots of adorable photo moments. \nPlaid encouraged. Good vibes required. BABY Goats guaranteed. 🐐✨
URL:https://goatyoga.com/event/plaid-party-goat-yoga-farmyard-fun-4-24-2026/
LOCATION:Welcome Home Ranch – Goat Yoga\, 26601 S Val Vista Dr #Goat Yoga\, Gilbert\, AZ\, 85298\, United States
ATTACH;FMTTYPE=image/jpeg:https://goatyoga.com/wp-content/uploads/20220511_071650-scaled.jpg
ORGANIZER;CN="Arizona Goat Yoga":MAILTO:owner@goatyoga.com
GEO:33.206567;-111.7545645
X-APPLE-STRUCTURED-LOCATION;VALUE=URI;X-ADDRESS=Welcome Home Ranch – Goat Yoga 26601 S Val Vista Dr #Goat Yoga Gilbert AZ 85298 United States;X-APPLE-RADIUS=500;X-TITLE=26601 S Val Vista Dr #Goat Yoga:geo:-111.7545645,33.206567
END:VEVENT
BEGIN:VEVENT
DTSTART;TZID=America/Phoenix:20260425T093000
DTEND;TZID=America/Phoenix:20260425T103000
DTSTAMP:20260420T092449
CREATED:20260310T034716Z
LAST-MODIFIED:20260310T034716Z
UID:10000860-1777109400-1777113000@goatyoga.com
SUMMARY:Hawaii Tropical Goat Yoga: Aloha\, Stretch & Baby Goat Snuggles! 4/25/2026🌺🐐🧘‍♀️
DESCRIPTION:Hawaii Tropical Goat Yoga: Aloha\, Stretch & Goat Snuggles! 4/25/26 🌺🐐🧘‍♀️ \nSay aloha to relaxation at Hawaii Tropical Goat Yoga! Wear your favorite tropical prints and join us for a playful yoga session surrounded by friendly Baby goats and island vibes. As you move through a gentle\, beginner-friendly flow\, curious goats may wander by for cuddles\, photos\, and maybe even a surprise pose partner. \nExpect sunshine\, laughter\, and plenty of adorable goat moments. \nBring your hula skirt! Tropical attire encouraged. Good vibes only. Goats guaranteed. 🌴🐐✨ \nSet in a beautiful outdoor space\, this class lets you stretch\, laugh\, and enjoy the enchanting company of goats and alpacas! \nNo refunds or make-up classes available. Rentals are $5.
URL:https://goatyoga.com/event/tropical-goat-yoga-baby-goat-snuggles-4-25-2026/
LOCATION:Welcome Home Ranch – Goat Yoga\, 26601 S Val Vista Dr #Goat Yoga\, Gilbert\, AZ\, 85298\, United States
CATEGORIES:Goat Yoga Event
ATTACH;FMTTYPE=image/jpeg:https://goatyoga.com/wp-content/uploads/IMG_4216.jpg
ORGANIZER;CN="Arizona Goat Yoga":MAILTO:owner@goatyoga.com
GEO:33.206567;-111.7545645
X-APPLE-STRUCTURED-LOCATION;VALUE=URI;X-ADDRESS=Welcome Home Ranch – Goat Yoga 26601 S Val Vista Dr #Goat Yoga Gilbert AZ 85298 United States;X-APPLE-RADIUS=500;X-TITLE=26601 S Val Vista Dr #Goat Yoga:geo:-111.7545645,33.206567
END:VEVENT
END:VCALENDAR