BEGIN:VCALENDAR
VERSION:2.0
PRODID:-//Arizona Goat Yoga - ECPv6.15.20//NONSGML v1.0//EN
CALSCALE:GREGORIAN
METHOD:PUBLISH
X-WR-CALNAME:Arizona Goat Yoga
X-ORIGINAL-URL:https://goatyoga.com
X-WR-CALDESC:Events for Arizona Goat Yoga
REFRESH-INTERVAL;VALUE=DURATION:PT1H
X-Robots-Tag:noindex
X-PUBLISHED-TTL:PT1H
BEGIN:VTIMEZONE
TZID:America/Phoenix
BEGIN:STANDARD
TZOFFSETFROM:-0700
TZOFFSETTO:-0700
TZNAME:MST
DTSTART:20190101T000000
END:STANDARD
END:VTIMEZONE
BEGIN:VEVENT
DTSTART;TZID=America/Phoenix:20200205T100000
DTEND;TZID=America/Phoenix:20200205T110000
DTSTAMP:20260424T180630
CREATED:20200104T073347Z
LAST-MODIFIED:20200203T024730Z
UID:10000268-1580896800-1580900400@goatyoga.com
SUMMARY:NO LONGER AVAILABLE\, NO DROP-INS.   Hawaiian Goat and Alpaca Yoga
DESCRIPTION:SORRY THIS CLASS IS NO LONGER AVAILABLE. NO DROP-INS AVAILABLE!! \n  \nGrab your lei and flora prints for a tropical goat yoga!    The animals will be dressed in their Hawaiian best for the funniest yoga class you’ve ever been to\, you can just wear typical yoga attire too. There might even be some baby goats…they are due any day. Plan on hugging fluffy alpacas they are the nicest you’ll ever meet.  Bring the family down for a true Arizona experience.   \nPlease bring a mat or towel. Mat rentals available for $5.  No refunds or make-up on classes. Rain checks will be offered if classes are cancelled because of rain. It rarely rains in AZ though!  \n\n\n	Related
URL:https://goatyoga.com/event/hawaiian-goat-and-alpaca-yoga-3/
LOCATION:AZ\, United States
CATEGORIES:Goat Yoga Event
ATTACH;FMTTYPE=image/jpeg:https://goatyoga.com/wp-content/uploads/44171903_2203613106542611_3070236523774345216_o-1.jpg
ORGANIZER;CN="Arizona Goat Yoga":MAILTO:owner@goatyoga.com
END:VEVENT
END:VCALENDAR